BEGIN:VCALENDAR
VERSION:2.0
PRODID:-//Network for Responsible Public Policy - ECPv6.15.18//NONSGML v1.0//EN
CALSCALE:GREGORIAN
METHOD:PUBLISH
X-WR-CALNAME:Network for Responsible Public Policy
X-ORIGINAL-URL:https://www.nfrpp.org
X-WR-CALDESC:Events for Network for Responsible Public Policy
REFRESH-INTERVAL;VALUE=DURATION:PT1H
X-Robots-Tag:noindex
X-PUBLISHED-TTL:PT1H
BEGIN:VTIMEZONE
TZID:America/New_York
BEGIN:DAYLIGHT
TZOFFSETFROM:-0500
TZOFFSETTO:-0400
TZNAME:EDT
DTSTART:20230312T070000
END:DAYLIGHT
BEGIN:STANDARD
TZOFFSETFROM:-0400
TZOFFSETTO:-0500
TZNAME:EST
DTSTART:20231105T060000
END:STANDARD
BEGIN:DAYLIGHT
TZOFFSETFROM:-0500
TZOFFSETTO:-0400
TZNAME:EDT
DTSTART:20240310T070000
END:DAYLIGHT
BEGIN:STANDARD
TZOFFSETFROM:-0400
TZOFFSETTO:-0500
TZNAME:EST
DTSTART:20241103T060000
END:STANDARD
BEGIN:DAYLIGHT
TZOFFSETFROM:-0500
TZOFFSETTO:-0400
TZNAME:EDT
DTSTART:20250309T070000
END:DAYLIGHT
BEGIN:STANDARD
TZOFFSETFROM:-0400
TZOFFSETTO:-0500
TZNAME:EST
DTSTART:20251102T060000
END:STANDARD
END:VTIMEZONE
BEGIN:VEVENT
DTSTART;TZID=America/New_York:20240321T193000
DTEND;TZID=America/New_York:20240321T210000
DTSTAMP:20260424T074615
CREATED:20240102T191630Z
LAST-MODIFIED:20240102T191630Z
UID:8111-1711049400-1711054800@www.nfrpp.org
SUMMARY:The Role Of Big Money In U.S. Elections
DESCRIPTION:Join this informative discussion with a group of campaign finance law experts from the nonpartisan\, nonprofit Campaign Legal Center to learn how big money special interest spending—often from secret sources—is affecting our elections and the solutions. Topics will include the evolving and increasingly powerful role of super PACs and other ostensibly “independent” groups that influence U.S. elections and why federal regulators frequently fail to enforce federal campaign finance rules. The experts will discuss what money-in-politics concerns they anticipate in the run-up to the 2024 elections and what can be done (and is already being done) to address these problems\, including in the courts\, ballot initiatives\, legislative and regulatory reforms at the state and local level. \n\nTo RSVP for the Zoom Webinar: https://us02web.zoom.us/webinar/register/WN_yMDfWn8FQ4SDPETlUGFJlQ \nTo watch the event on Facebook Live: https://www.facebook.com/NFRPP/live_videos/ \nThis event is from 7:30 pm to 9:00 pm EST on Thursday March 21\, 2024 \n\nSpeakers: \nErin Chlopak – Senior Director\, Campaign Finance \nErin leads CLC’s work to promote and defend strong campaign finance laws and ensure that existing laws are enforced. Erin’s expert analysis on campaign finance issues has been featured in national media outlets including the Washington Post\, National Public Radio\, BBC\, Forbes\, and USA Today. \nBefore joining CLC\, Erin spent nearly a decade working on a wide range of campaign finance issues in the Federal Election Commission’s Office of General Counsel. From 2017 to 2018\, Erin led the FEC’s Policy Division\, overseeing all legal recommendations regarding FEC regulations\, advisory opinions\, and other legal policy guidance. From 2009 to 2017\, Erin served as an attorney and then as assistant general counsel in the FEC’s Litigation Division\, litigating a wide range of campaign finance cases. \nErin is a graduate of American University’s Washington College of Law\, where she served as editor-in-chief of the American University Law Review\, and she received a B.A. from Johns Hopkins University. She clerked for Judge Helen Gillmor of the U.S. District Court for the District of Hawaii. \n \nSaurav Ghosh – Director\, Federal Campaign Finance Reform \nSaurav leads CLC’s efforts to uncover campaign finance violations\, file complaints seeking administrative enforcement\, and pursue legislative and regulatory reforms to strengthen and ensure the consistent and robust enforcement of federal campaign finance laws. \nAfter starting his legal career in private practice\, Saurav served for almost seven years in the Enforcement Division of the Federal Election Commission’s Office of General Counsel\, investigating alleged violations in dozens of campaign finance matters. Saurav also previously served as a Special Assistant U.S. Attorney in the U.S. Attorney’s Office for the District of Columbia. \nSaurav received his law degree from Stanford Law School (J.D.)\, where he was awarded the Carl Mason Franklin Prize in International Law and published in the Stanford Law Review\, and his undergraduate degree from the University of Pennsylvania.  After law school\, Saurav clerked for the Honorable John M. Rogers of the U.S. Court of Appeals for the Sixth Circuit. \n \nKevin P. Hancock – Director\, Strategic Litigation \nKevin litigates to protect voting rights\, ensure fair redistricting and to reform the campaign finance system. \nBefore joining CLC\, served for nearly a decade in several capacities as an attorney at the Federal Election Commission (FEC)\, including as an acting assistant general counsel for litigation and as senior counsel to FEC Commissioner Ellen L. Weintraub. Kevin graduated valedictorian from Seton Hall University School of Law\, where he was editor-in-chief of the Seton Hall Law Review. He clerked for the Honorable Maryanne Trump Barry of the U.S. Court of Appeals for the Third Circuit\, and the Honorable John C. Lifland of the U.S. District Court for the District of New Jersey. \n \nAaron McKean – Legal Counsel\, State & Local Reform \nAaron works with state and local partners to develop and advocate for campaign finance reforms that lift the voices of voters and lead to a more transparent democracy. \nPrior to joining CLC\, Aaron was a legislative attorney at the Wisconsin Legislative Reference Bureau\, a nonpartisan legislative service agency\, drafting legislation for members of the Wisconsin Legislature. He also served as a Peace Corps Volunteer in Azerbaijan from 2009 to 2011. \nAaron is a graduate of the University of Wisconsin Law School and the University of Wisconsin–Madison. \n  \n\n\nEvent Co-sponsors:
URL:https://www.nfrpp.org/event/the-role-of-big-money-in-u-s-elections/
LOCATION:Webinar and Facebook Live Stream
CATEGORIES:upcoming
ATTACH;FMTTYPE=image/jpeg:https://www.nfrpp.org/wp-content/uploads/2023/12/money-in-politics.jpg
ORGANIZER;CN="Network for Responsible Public Policy":MAILTO:info@nfrpp.org
END:VEVENT
END:VCALENDAR